Workbook

Sheet Tax Return Form（fill out→print)
A1: Form No. 10 (Article 8) | I1: Designation Number
A2: Accommodation Tax Return Form
K3: Date | N3: Y | P3: M | R3: D
A4: To the Mayor of Niseko Town
G5: Party Responsible for Special Collection
G6: Address
G7: Name
G9: Personal or corporate number
G10: Telephone
A11: I file an accommodation tax return pursuant to the provision of Article 10, paragraph 1 of the Niseko Town Accommodation Tax Ordinance
A12: Accommodation Facility | D12: Address | G12: Niseko-cho
D13: Name
C14: Category | I14: ①Number of stay | K14: ②Tax rate | N14: Tax amount (1 x 2)
C15: Accommodation tax (per person, per night) | F15: Below ¥5,001 | K15: 200 | L15: yen | N15: =I15*K15 -> 0 | R15: yen
A16: Date | F16: From ¥5,001 to ¥19,999 | K16: 300 | L16: yen | N16: =I16*K16 -> 0 | R16: yen
B17: Year | F17: From ¥20,000 to ¥49,999 | K17: 700 | L17: yen | N17: =I17*K17 -> 0 | R17: yen
F18: From ¥50,000 to ¥99,999 | K18: 1500 | L18: yen | N18: =I18*K18 -> 0 | R18: yen
B19: Month | F19: From ¥100,000 | K19: 2500 | L19: yen | N19: =I19*K19 -> 0 | R19: yen
C20: A Taxable number of stays | K20: Total Tax Amount | N20: =SUM(N15:Q19) -> 0 | R20: yen
C21: B Exemptions
C22: C Total number of stays (A + B) | I22: =I20+I21 -> 0
C23: Type | I23: ①Number of stay | K23: ②Tax rate | N23: Tax amount (1 x 2)
C24: Accommodation tax (per person, per night) | F24: Below ¥5,001 | K24: 200 | L24: yen | N24: =I24*K24 -> 0 | R24: yen
A25: Date | F25: From ¥5,001 to ¥19,999 | K25: 300 | L25: yen | N25: =I25*K25 -> 0 | R25: yen
B26: Year | F26: From ¥20,000 to ¥49,999 | K26: 700 | L26: yen | N26: =I26*K26 -> 0 | R26: yen
F27: From ¥50,000 to ¥99,999 | K27: 1500 | L27: yen | N27: =I27*K27 -> 0 | R27: yen
B28: Month | F28: From ¥100,000 | K28: 2500 | L28: yen | N28: =I28*K28 -> 0 | R28: yen
C29: A Taxable number of stays | I29: =SUM(I24:I28) -> 0 | K29: Total Tax Amount | N29: =SUM(N24:Q28) -> 0 | R29: yen
A30: ※only for those with special exemption | C30: B Exemptions
C31: C Total number of stays (A + B) | I31: =I29+I30 -> 0
C32: Type | I32: ①Number of stay | K32: ②Tax rate | N32: Tax amount (1 x 2)
C33: Accommodation tax (per person, per night) | F33: Below ¥5,001 | K33: 200 | L33: yen | N33: =I33*K33 -> 0 | R33: yen
A34: Date | F34: From ¥5,001 to ¥19,999 | K34: 300 | L34: yen | N34: =I34*K34 -> 0 | R34: yen
B35: Year | F35: From ¥20,000 to ¥49,999 | K35: 700 | L35: yen | N35: =I35*K35 -> 0 | R35: yen
F36: From ¥50,000 to ¥99,999 | K36: 1500 | L36: yen | N36: =I36*K36 -> 0 | R36: yen
B37: Month | F37: From ¥100,000 | K37: 2500 | L37: yen | N37: =I37*K37 -> 0 | R37: yen
C38: A Taxable number of stays | I38: =SUM(I33:I37) -> 0 | K38: Total Tax Amount | N38: =SUM(N33:Q37) -> 0 | R38: yen
A39: ※only for those with special exemption | C39: B Exemptions
C40: C Total number of stays (A + B) | I40: =I38+I39 -> 0
A41: Please describe accommodation services provided in the previous month and submit this statement by the end of each month. If you have obtained approval referred to Article 10, paragraph 2 of the Niseko Town Accommodation Tax Ordinance, please submit the statement by the end of March, June, September and December.

Sheet Payment Slip（automatic→print）
A1: 北海道ニセコ町 | N1: 宿泊税納入書 公 | AC1: 北海道ニセコ町 | AP1: 宿泊税納入済通知書 公 | BE1: 北海道ニセコ町 | BR1: 宿泊税領収証書 公
A2: 市区町村コード | AC2: 市区町村コード | BE2: 市区町村コード
A3: ０１３９５１ | AC3: ０１３９５１ | BE3: ０１３９５１
A5: 口 座 番 号 | P5: 加 入 者 名 | AC5: 口 座 番 号 | AR5: 加 入 者 名 | BE5: 口 座 番 号 | BT5: 加 入 者 名
A6: 4340577 | P6: 宿泊税 ニセコ町 | AC6: 4340577 | AR6: 宿泊税 ニセコ町 | BE6: 4340577 | BT6: 宿泊税 ニセコ町
A7: 年度 | E7: 申告年月 | I7: 申告区分 | Q7: 指定番号 | AC7: 年度 | AG7: 申告年月 | AK7: 申告区分 | AS7: 指定番号 | BE7: 年度 | BI7: 申告年月 | BM7: 申告区分 | BU7: 指定番号
G8: 年 | I8: 申告 | L8: 更生 | N8: 決定 | Q8: ='Tax Return Form（fill out→print)'!$L$1 -> 0 | AC8: =$A$8 -> 0 | AG8: =$E$8 -> 0 | AI8: 年 | AK8: 申告 | AN8: 更生 | AP8: 決定 | AS8: =$Q$8 -> 0 | BE8: =$A$8 -> 0 | BI8: =$E$8 -> 0 | BK8: 年 | BM8: 申告 | BP8: 更生 | BR8: 決定 | BU8: =$Q$8 -> 0
G9: 月分 | AG9: =$E$9 -> 0 | AI9: 月分 | BI9: =$E$9 -> 0 | BK9: 月分
A10: 納入金額 | C10: 税 額 | I10: ='Tax Return Form（fill out→print)'!N20+'Tax Return Form（fill out→print)'!N29+'Tax Return Form（fill out→print)'!N38 -> 0 | Y10: 円 | AC10: 納入金額 | AE10: 税 額 | AK10: =$I$10 -> 0 | BA10: 円 | BE10: 納入金額 | BG10: 税 額 | BM10: =$I$10 -> 0 | CC10: 円
C11: 延滞金 | Y11: 円 | AE11: 延滞金 | AK11: =$I$11 -> 0 | BA11: 円 | BG11: 延滞金 | BM11: =$I$11 -> 0 | CC11: 円
C12: 加算金 | Y12: 円 | AE12: 加算金 | AK12: =$I$12 -> 0 | BA12: 円 | BG12: 加算金 | BM12: =$I$12 -> 0 | CC12: 円
C13: 合計額 | I13: =SUM(I10:X12) -> 0 | Y13: 円 | AE13: 合計額 | AK13: =$I$13 -> 0 | BA13: 円 | BG13: 合計額 | BM13: =$I$13 -> 0 | CC13: 円
A14: 納期限 | AC14: 納期限 | AK14: =$I$14 -> 0 | BE14: 納期限 | BM14: =$I$14 -> 0
A15: 特別徴収義務者 | AC15: 特別徴収義務者 | BE15: 特別徴収義務者
A16: 住所 | G16: ='Tax Return Form（fill out→print)'!$I$6 -> 0 | AC16: 住所 | AI16: ='Tax Return Form（fill out→print)'!$I$6 -> 0 | BE16: 住所 | BK16: ='Tax Return Form（fill out→print)'!$I$6 -> 0
A17: （所在地） | AC17: （所在地） | BE17: （所在地）
A18: 氏名 | G18: ='Tax Return Form（fill out→print)'!$I$7 -> 0 | AC18: 氏名 | AI18: ='Tax Return Form（fill out→print)'!$I$7 -> 0 | BE18: 氏名 | BK18: ='Tax Return Form（fill out→print)'!$I$7 -> 0
A19: （名称） | AC19: （名称） | BE19: （名称）
A20: 上記のとおり納入します。 | M20: 領収日付印 | AC20: 指定金融機関名 | AO20: 領収日付印 | BE20: 上記のとおり領収しました。 | BQ20: 領収日付印
A21: （納入場所） | AC21: 北海道信用金庫ニセコ支店
A22: 北海道信用金庫ニセコ支店
A23: ようてい農業協同組合真狩支所 | AC23: 取りまとめ店
A24: 北海道内の郵便局又はゆうちょ銀行 | AC24: 〒047-8794
A25: ニセコ町役場 | AC25: 小樽貯金事務センター
Z26: （金融機関又はゆうちょ銀行等保管） | BB26: （ニセコ町保管） | CD26: （納入者保管）
A27: この納入書は3枚一組となっておりますので、切り離さずに提出してください。 | AC27: 上記のとおり通知します。（受付店→ニセコ町会計管理者） | BE27: この領収書は、５年間保存してください。
